BEGIN:VCALENDAR
PRODID:NingEventWidget-v1
VERSION:2.0
METHOD:PUBLISH
BEGIN:VTIMEZONE
TZID:Europe/Brussels
X-LIC-LOCATION:Europe/Brussels
BEGIN:DAYLIGHT
TZOFFSETFROM:+0100
TZOFFSETTO:+0200
TZNAME:CEST
DTSTART:19700329T020000
RRULE:FREQ=YEARLY;BYMONTH=3;BYDAY=-1SU
END:DAYLIGHT
BEGIN:STANDARD
TZOFFSETFROM:+0200
TZOFFSETTO:+0100
TZNAME:CET
DTSTART:19701025T030000
RRULE:FREQ=YEARLY;BYMONTH=10;BYDAY=-1SU
END:STANDARD
END:VTIMEZONE
BEGIN:VEVENT
UID:2267725:Event:5487
DTSTAMP:20260423T020446Z
SUMMARY:Interieurbouw, Hout & Kunststof Vakbeurs
DESCRIPTION:Interieurbouw, Hout & Kunststof Vakbeurs is dé ontmoeting
 splaats waar ondernemers en relaties in de hout-, kunststof-en/of inte
 rieurbouwbranche elkaar ontmoeten. In een sfeervolle, verkoopbevordere
 nde ambiance kunt u zaken doen, informatie uitwisselen, contacten legg
 en, inspiratie en ideeën opdoen.\nInformatie: Evenementenhal Gorinche
 m\n\nZie voor meer informatie https://bouwprofsnederland.nl/events/int
 erieurbouw-hout-kunststof
DTSTART;TZID=Europe/Brussels:20090915T000000
DTEND;TZID=Europe/Brussels:20090917T235900
CATEGORIES:beurs
LOCATION:Evenementenhal Gorinchem
WEBSITE:
URL:
CONTACT:
ORGANIZER:Evenementenhal Gorinchem
ATTACH;FMTTYPE="image/jpeg":
ATTENDEE;ROLE=REQ-PARTICIPANT;PARTSTAT=ACCEPTED;RSVP=TRUE;CN="Michel E
 ek":https://bouwprofsnederland.nl/profile/micheleek
END:VEVENT
END:VCALENDAR
