BEGIN:VCALENDAR
PRODID:NingEventWidget-v1
VERSION:2.0
METHOD:PUBLISH
BEGIN:VTIMEZONE
TZID:Europe/Brussels
X-LIC-LOCATION:Europe/Brussels
BEGIN:DAYLIGHT
TZOFFSETFROM:+0100
TZOFFSETTO:+0200
TZNAME:CEST
DTSTART:19700329T020000
RRULE:FREQ=YEARLY;BYMONTH=3;BYDAY=-1SU
END:DAYLIGHT
BEGIN:STANDARD
TZOFFSETFROM:+0200
TZOFFSETTO:+0100
TZNAME:CET
DTSTART:19701025T030000
RRULE:FREQ=YEARLY;BYMONTH=10;BYDAY=-1SU
END:STANDARD
END:VTIMEZONE
BEGIN:VEVENT
UID:2267725:Event:19344
DTSTAMP:20260421T110647Z
SUMMARY:SAVE THE DATE - ZEE EVENT 10.11.10 - WWW.ZEEEVENT.NL
DESCRIPTION:\nStichting Metropolis organiseert op 10/11/10 een Zee Eve
 nt in Den Haag. Dit is een ontmoetingsplaats voor vastgoed, overheid &
  creatieve sector. Thema van dit Zee Event: Den Haag, ECOCITY aan ZEE.
  Wethouder Marnix Norder uit Den Haag opent het Zee Event!\n\n\n\nZie 
 voor meer informatie https://bouwprofsnederland.nl/events/save-the-dat
 e-zee-event
DTSTART;TZID=Europe/Brussels:20101110T113000
DTEND;TZID=Europe/Brussels:20101110T183000
CATEGORIES:netwerkevent
LOCATION:Kantoorvilla Roeleveld-Sikkes
WEBSITE:http://www.zeeevent.nl
URL:http://www.zeeevent.nl
CONTACT:06-52350969/070-3630200
ORGANIZER:Stichting Metropolis/Patricia Engelbert v.Bevervoorde
ATTACH;FMTTYPE="image/jpeg":http://storage.ning.com/topology/rest/1.0/
 file/get/2014659425?profile=original
ATTENDEE;ROLE=REQ-PARTICIPANT;PARTSTAT=ACCEPTED;RSVP=TRUE;CN="Patricia
  Engelbert v.Bevervoorde":https://bouwprofsnederland.nl/profile/Patric
 iaEngelbertvBevervoorde
END:VEVENT
END:VCALENDAR
