BEGIN:VCALENDAR
PRODID:NingEventWidget-v1
VERSION:2.0
METHOD:PUBLISH
BEGIN:VTIMEZONE
TZID:Europe/Brussels
X-LIC-LOCATION:Europe/Brussels
BEGIN:DAYLIGHT
TZOFFSETFROM:+0100
TZOFFSETTO:+0200
TZNAME:CEST
DTSTART:19700329T020000
RRULE:FREQ=YEARLY;BYMONTH=3;BYDAY=-1SU
END:DAYLIGHT
BEGIN:STANDARD
TZOFFSETFROM:+0200
TZOFFSETTO:+0100
TZNAME:CET
DTSTART:19701025T030000
RRULE:FREQ=YEARLY;BYMONTH=10;BYDAY=-1SU
END:STANDARD
END:VTIMEZONE
BEGIN:VEVENT
UID:2267725:Event:7097
DTSTAMP:20260422T204058Z
SUMMARY:Vierde Nationaal Symposium Makelaardij  NSM4
DESCRIPTION:Het Viedere Nationaal Symposium Makelaardij, www.nsm4.nl. 
 is het meeste meninente en toonaangevende evenement waar circa 1500 ma
 kelaars, taxateurs en vastgoedproffesionals elkaar ontmoeten. Het even
 ement is gratis toegankleijk voor professionals werkzaam in de branche
 , toelevernaciers betalen € 695.\nEen keur aan spreker geven acte de
  presence, onder andere Joep Ketelaar, CEO Funda, Jan-Kees Duvekot, be
 stuursvoorzitter LMV, Herman Pley, Hoogleraar VU, Wouter de Vries, UVA
 . Maar ook Hein Vergeer legt uit wat topprestaties vragen. Daphne Deck
 ers zal als uw dagvoorzitter en gastvrouw optreden. Via www.nsm4.nl be
 nt u van harte welkom om u (kosteloos) aan te melden.\n\nZie voor meer
  informatie https://bouwprofsnederland.nl/events/vierde-nationaal-symp
 osium
DTSTART;TZID=Europe/Brussels:20091119T000000
DTEND;TZID=Europe/Brussels:20091119T235900
CATEGORIES:nationaal, symposium
LOCATION:Orpheus Apeldoorn
WEBSITE:http://www.nsm4.nl
URL:http://www.nsm4.nl
CONTACT:0182-380096
ORGANIZER;CN="Ed van de Bijl":https://bouwprofsnederland.nl/profile/Ed
 vandeBijl
ATTACH;FMTTYPE="image/jpeg":
ATTENDEE;ROLE=REQ-PARTICIPANT;PARTSTAT=ACCEPTED;RSVP=TRUE;CN="Han Tutt
 el":https://bouwprofsnederland.nl/profile/HanTuttel
ATTENDEE;ROLE=REQ-PARTICIPANT;PARTSTAT=ACCEPTED;RSVP=TRUE;CN="Jannetta
  Dorsman":https://bouwprofsnederland.nl/profile/JannettaDorsman
ATTENDEE;ROLE=REQ-PARTICIPANT;PARTSTAT=ACCEPTED;RSVP=TRUE;CN="Ed van d
 e Bijl":https://bouwprofsnederland.nl/profile/EdvandeBijl
END:VEVENT
END:VCALENDAR
